BEGIN:VCALENDAR
VERSION:2.0
PRODID:-//173.205.127.35//NONSGML kigkonsult.se iCalcreator 2.20//
CALSCALE:GREGORIAN
METHOD:PUBLISH
X-WR-TIMEZONE:America/Phoenix
BEGIN:VEVENT
UID:event3390@Camera Guild of Sun City
DTSTAMP:20260419T122602Z
CATEGORIES:Education
DESCRIPTION:Basic Processing w/Photoshop\nCategory: Education\nLink: https:
 //cameraguildsuncity.com/index.php?option=com_jem&view=event&id=3390:basic
 -processing-w-photoshop\n
DTSTART;TZID=America/Phoenix:20250212T093000
DTEND;TZID=America/Phoenix:20250212T113000
SUMMARY:Basic Processing w/Photoshop
URL:https://cameraguildsuncity.com/index.php?option=com_jem&view=event&id=3
 390:basic-processing-w-photoshop
END:VEVENT
BEGIN:VEVENT
UID:event3108@Camera Guild of Sun City
DTSTAMP:20260419T122602Z
CATEGORIES:Education
DESCRIPTION:Beyond Selfies 1\nCategory: Education\nLink: https://cameraguil
 dsuncity.com/index.php?option=com_jem&view=event&id=3108:beyond-selfies-1
 \n
DTSTART;TZID=America/Phoenix:20241118T130000
DTEND;TZID=America/Phoenix:20241118T160000
SUMMARY:Beyond Selfies 1
URL:https://cameraguildsuncity.com/index.php?option=com_jem&view=event&id=3
 108:beyond-selfies-1
END:VEVENT
BEGIN:VEVENT
UID:event3107@Camera Guild of Sun City
DTSTAMP:20260419T122602Z
CATEGORIES:Education
DESCRIPTION:Beyond Selfies 2\nCategory: Education\nLink: https://cameraguil
 dsuncity.com/index.php?option=com_jem&view=event&id=3107:beyond-selfies-2
 \n
DTSTART;TZID=America/Phoenix:20241125T130000
DTEND;TZID=America/Phoenix:20241125T160000
SUMMARY:Beyond Selfies 2
URL:https://cameraguildsuncity.com/index.php?option=com_jem&view=event&id=3
 107:beyond-selfies-2
END:VEVENT
BEGIN:VEVENT
UID:event3104@Camera Guild of Sun City
DTSTAMP:20260419T122602Z
CATEGORIES:Education
DESCRIPTION:Beyond Selfies 3\nCategory: Education\nLink: https://cameraguil
 dsuncity.com/index.php?option=com_jem&view=event&id=3104:beyond-selfies-3
 \n
DTSTART;TZID=America/Phoenix:20241202T130000
DTEND;TZID=America/Phoenix:20241202T160000
SUMMARY:Beyond Selfies 3
URL:https://cameraguildsuncity.com/index.php?option=com_jem&view=event&id=3
 104:beyond-selfies-3
END:VEVENT
BEGIN:VEVENT
UID:event3105@Camera Guild of Sun City
DTSTAMP:20260419T122602Z
CATEGORIES:Education
DESCRIPTION:Beyond Selfies 4\nCategory: Education\nLink: https://cameraguil
 dsuncity.com/index.php?option=com_jem&view=event&id=3105:beyond-selfies-4
 \n
DTSTART;TZID=America/Phoenix:20241209T130000
DTEND;TZID=America/Phoenix:20241209T160000
SUMMARY:Beyond Selfies 4
URL:https://cameraguildsuncity.com/index.php?option=com_jem&view=event&id=3
 105:beyond-selfies-4
END:VEVENT
BEGIN:VEVENT
UID:event3402@Camera Guild of Sun City
DTSTAMP:20260419T122602Z
CATEGORIES:Education
DESCRIPTION:Advanced SnapSeed\nCategory: Education\nLink: https://cameragui
 ldsuncity.com/index.php?option=com_jem&view=event&id=3402:advanced-snapsee
 d\n
DTSTART;TZID=America/Phoenix:20250324T133000
DTEND;TZID=America/Phoenix:20250324T163000
SUMMARY:Advanced SnapSeed
URL:https://cameraguildsuncity.com/index.php?option=com_jem&view=event&id=3
 402:advanced-snapseed
END:VEVENT
BEGIN:VEVENT
UID:event3103@Camera Guild of Sun City
DTSTAMP:20260419T122602Z
CATEGORIES:Education
DESCRIPTION:Basic Post Processing with Photoshop\nCategory: Education\nLink
 : https://cameraguildsuncity.com/index.php?option=com_jem&view=event&id=31
 03:basic-post-processing-with-photoshop\n
DTSTART;TZID=America/Phoenix:20241210T133000
DTEND;TZID=America/Phoenix:20241210T153000
SUMMARY:Basic Post Processing with Photoshop
URL:https://cameraguildsuncity.com/index.php?option=com_jem&view=event&id=3
 103:basic-post-processing-with-photoshop
END:VEVENT
BEGIN:VEVENT
UID:event3106@Camera Guild of Sun City
DTSTAMP:20260419T122602Z
CATEGORIES:Education
DESCRIPTION:Basic Post Processing with Photoshop\nCategory: Education\nLink
 : https://cameraguildsuncity.com/index.php?option=com_jem&view=event&id=31
 06:basic-post-processing-with-photoshop\n
DTSTART;TZID=America/Phoenix:20241120T133000
DTEND;TZID=America/Phoenix:20241120T153000
SUMMARY:Basic Post Processing with Photoshop
URL:https://cameraguildsuncity.com/index.php?option=com_jem&view=event&id=3
 106:basic-post-processing-with-photoshop
END:VEVENT
BEGIN:VEVENT
UID:event4117@Camera Guild of Sun City
DTSTAMP:20260419T122602Z
CATEGORIES:Education
DESCRIPTION:Basic Processing With Photoshop\nCategory: Education\nLink: htt
 ps://cameraguildsuncity.com/index.php?option=com_jem&view=event&id=4117:ba
 sic-processing-with-photoshop\n
DTSTART;TZID=America/Phoenix:20251216T133000
DTEND;TZID=America/Phoenix:20251216T153000
SUMMARY:Basic Processing With Photoshop
URL:https://cameraguildsuncity.com/index.php?option=com_jem&view=event&id=4
 117:basic-processing-with-photoshop
END:VEVENT
BEGIN:VEVENT
UID:event4208@Camera Guild of Sun City
DTSTAMP:20260419T122602Z
CATEGORIES:Education
DESCRIPTION:Basic Processing using Photoshop\nCategory: Education\nLink: ht
 tps://cameraguildsuncity.com/index.php?option=com_jem&view=event&id=4208:b
 asic-processing-using-photoshop\n
DTSTART;TZID=America/Phoenix:20260421T133000
DTEND;TZID=America/Phoenix:20260421T153000
SUMMARY:Basic Processing using Photoshop
URL:https://cameraguildsuncity.com/index.php?option=com_jem&view=event&id=4
 208:basic-processing-using-photoshop
END:VEVENT
BEGIN:VEVENT
UID:event3391@Camera Guild of Sun City
DTSTAMP:20260419T122602Z
CATEGORIES:Education
DESCRIPTION:Basic Processing w/Photoshop\nCategory: Education\nLink: https:
 //cameraguildsuncity.com/index.php?option=com_jem&view=event&id=3391:basic
 -processing-w-photoshop\n
DTSTART;TZID=America/Phoenix:20250219T133000
DTEND;TZID=America/Phoenix:20250219T153000
SUMMARY:Basic Processing w/Photoshop
URL:https://cameraguildsuncity.com/index.php?option=com_jem&view=event&id=3
 391:basic-processing-w-photoshop
END:VEVENT
BEGIN:VEVENT
UID:event4175@Camera Guild of Sun City
DTSTAMP:20260419T122602Z
CATEGORIES:Education
DESCRIPTION:Basic Processing with Photoshop\nCategory: Education\nLink: htt
 ps://cameraguildsuncity.com/index.php?option=com_jem&view=event&id=4175:ba
 sic-processing-with-photoshop\n
DTSTART;TZID=America/Phoenix:20260120T133000
DTEND;TZID=America/Phoenix:20260120T153000
SUMMARY:Basic Processing with Photoshop
URL:https://cameraguildsuncity.com/index.php?option=com_jem&view=event&id=4
 175:basic-processing-with-photoshop
END:VEVENT
BEGIN:VEVENT
UID:event4179@Camera Guild of Sun City
DTSTAMP:20260419T122602Z
CATEGORIES:Education
DESCRIPTION:Basic Processing with Photoshop\nCategory: Education\nLink: htt
 ps://cameraguildsuncity.com/index.php?option=com_jem&view=event&id=4179:ba
 sic-processing-with-photoshop\n
DTSTART;TZID=America/Phoenix:20260210T133000
DTEND;TZID=America/Phoenix:20260210T153000
SUMMARY:Basic Processing with Photoshop
URL:https://cameraguildsuncity.com/index.php?option=com_jem&view=event&id=4
 179:basic-processing-with-photoshop
END:VEVENT
BEGIN:VEVENT
UID:event4139@Camera Guild of Sun City
DTSTAMP:20260419T122602Z
CATEGORIES:Education
DESCRIPTION:Beyond Selfies\nCategory: Education\nLink: https://cameraguilds
 uncity.com/index.php?option=com_jem&view=event&id=4139:beyond-selfies\n
DTSTART;TZID=America/Phoenix:20260317T133000
DTEND;TZID=America/Phoenix:20260317T163000
SUMMARY:Beyond Selfies
URL:https://cameraguildsuncity.com/index.php?option=com_jem&view=event&id=4
 139:beyond-selfies
END:VEVENT
BEGIN:VEVENT
UID:event4140@Camera Guild of Sun City
DTSTAMP:20260419T122602Z
CATEGORIES:Education
DESCRIPTION:Beyond Selfies\nCategory: Education\nLink: https://cameraguilds
 uncity.com/index.php?option=com_jem&view=event&id=4140:beyond-selfies\n
DTSTART;TZID=America/Phoenix:20260121T133000
DTEND;TZID=America/Phoenix:20260121T163000
SUMMARY:Beyond Selfies
URL:https://cameraguildsuncity.com/index.php?option=com_jem&view=event&id=4
 140:beyond-selfies
END:VEVENT
BEGIN:VEVENT
UID:event3399@Camera Guild of Sun City
DTSTAMP:20260419T122602Z
CATEGORIES:Education
DESCRIPTION:Beyond Selfies 1\nCategory: Education\nLink: https://cameraguil
 dsuncity.com/index.php?option=com_jem&view=event&id=3399:beyond-selfies-1
 \n
DTSTART;TZID=America/Phoenix:20250303T133000
DTEND;TZID=America/Phoenix:20250303T163000
SUMMARY:Beyond Selfies 1
URL:https://cameraguildsuncity.com/index.php?option=com_jem&view=event&id=3
 399:beyond-selfies-1
END:VEVENT
BEGIN:VEVENT
UID:event3401@Camera Guild of Sun City
DTSTAMP:20260419T122602Z
CATEGORIES:Education
DESCRIPTION:Perceptual Composition\nCategory: Education\nLink: https://came
 raguildsuncity.com/index.php?option=com_jem&view=event&id=3401:perceptual-
 composition\n
DTSTART;TZID=America/Phoenix:20250317T133000
DTEND;TZID=America/Phoenix:20250317T163000
SUMMARY:Perceptual Composition
URL:https://cameraguildsuncity.com/index.php?option=com_jem&view=event&id=3
 401:perceptual-composition
END:VEVENT
BEGIN:VEVENT
UID:event4135@Camera Guild of Sun City
DTSTAMP:20260419T122602Z
CATEGORIES:Education
DESCRIPTION:Perceptual Composition\nCategory: Education\nLink: https://came
 raguildsuncity.com/index.php?option=com_jem&view=event&id=4135:perceptual-
 composition\n
DTSTART;TZID=America/Phoenix:20260114T133000
DTEND;TZID=America/Phoenix:20260114T163000
SUMMARY:Perceptual Composition
URL:https://cameraguildsuncity.com/index.php?option=com_jem&view=event&id=4
 135:perceptual-composition
END:VEVENT
BEGIN:VEVENT
UID:event4138@Camera Guild of Sun City
DTSTAMP:20260419T122602Z
CATEGORIES:Education
DESCRIPTION:Perceptual Composition\nCategory: Education\nLink: https://came
 raguildsuncity.com/index.php?option=com_jem&view=event&id=4138:perceptual-
 composition\n
DTSTART;TZID=America/Phoenix:20260310T133000
DTEND;TZID=America/Phoenix:20260310T163000
SUMMARY:Perceptual Composition
URL:https://cameraguildsuncity.com/index.php?option=com_jem&view=event&id=4
 138:perceptual-composition
END:VEVENT
BEGIN:VEVENT
UID:event3400@Camera Guild of Sun City
DTSTAMP:20260419T122602Z
CATEGORIES:Education
DESCRIPTION:SnapSeed\nCategory: Education\nLink: https://cameraguildsuncity
 .com/index.php?option=com_jem&view=event&id=3400:snapseed\n
DTSTART;TZID=America/Phoenix:20250310T133000
DTEND;TZID=America/Phoenix:20250310T163000
SUMMARY:SnapSeed
URL:https://cameraguildsuncity.com/index.php?option=com_jem&view=event&id=3
 400:snapseed
END:VEVENT
BEGIN:VEVENT
UID:event4136@Camera Guild of Sun City
DTSTAMP:20260419T122602Z
CATEGORIES:Education
DESCRIPTION:SnapSeed\nCategory: Education\nLink: https://cameraguildsuncity
 .com/index.php?option=com_jem&view=event&id=4136:snapseed\n
DTSTART;TZID=America/Phoenix:20260324T133000
DTEND;TZID=America/Phoenix:20260324T163000
SUMMARY:SnapSeed
URL:https://cameraguildsuncity.com/index.php?option=com_jem&view=event&id=4
 136:snapseed
END:VEVENT
BEGIN:VEVENT
UID:event4141@Camera Guild of Sun City
DTSTAMP:20260419T122602Z
CATEGORIES:Education
DESCRIPTION:SnapSeed\nCategory: Education\nLink: https://cameraguildsuncity
 .com/index.php?option=com_jem&view=event&id=4141:snapseed\n
DTSTART;TZID=America/Phoenix:20260128T133000
DTEND;TZID=America/Phoenix:20260128T163000
SUMMARY:SnapSeed
URL:https://cameraguildsuncity.com/index.php?option=com_jem&view=event&id=4
 141:snapseed
END:VEVENT
BEGIN:VEVENT
UID:event3096@Camera Guild of Sun City
DTSTAMP:20260419T122602Z
CATEGORIES:Education
DESCRIPTION:Texture Artistry - Class 1\nCategory: Education\nLink: https://
 cameraguildsuncity.com/index.php?option=com_jem&view=event&id=3096:texture
 -artistry-class-1\n
DTSTART;TZID=America/Phoenix:20250114T133000
DTEND;TZID=America/Phoenix:20250114T163000
SUMMARY:Texture Artistry - Class 1
URL:https://cameraguildsuncity.com/index.php?option=com_jem&view=event&id=3
 096:texture-artistry-class-1
END:VEVENT
BEGIN:VEVENT
UID:event3097@Camera Guild of Sun City
DTSTAMP:20260419T122602Z
CATEGORIES:Education
DESCRIPTION:Texture Artistry - Class 2\nCategory: Education\nLink: https://
 cameraguildsuncity.com/index.php?option=com_jem&view=event&id=3097:texture
 -artistry-class-2\n
DTSTART;TZID=America/Phoenix:20250121T133000
DTEND;TZID=America/Phoenix:20250121T163000
SUMMARY:Texture Artistry - Class 2
URL:https://cameraguildsuncity.com/index.php?option=com_jem&view=event&id=3
 097:texture-artistry-class-2
END:VEVENT
BEGIN:VEVENT
UID:event3098@Camera Guild of Sun City
DTSTAMP:20260419T122602Z
CATEGORIES:Education
DESCRIPTION:Texture Artistry - Class 3\nCategory: Education\nLink: https://
 cameraguildsuncity.com/index.php?option=com_jem&view=event&id=3098:texture
 -artistry-class-3\n
DTSTART;TZID=America/Phoenix:20250128T133000
DTEND;TZID=America/Phoenix:20250128T163000
SUMMARY:Texture Artistry - Class 3
URL:https://cameraguildsuncity.com/index.php?option=com_jem&view=event&id=3
 098:texture-artistry-class-3
END:VEVENT
BEGIN:VEVENT
UID:event2507@Camera Guild of Sun City
DTSTAMP:20260419T122602Z
CATEGORIES:Education
DESCRIPTION:The Thursday Tutor\nCategory: Education\nLink: https://cameragu
 ildsuncity.com/index.php?option=com_jem&view=event&id=2507:the-thursday-tu
 tor\n
DTSTART;TZID=America/Phoenix:20240502T133000
DTEND;TZID=America/Phoenix:20240502T153000
SUMMARY:The Thursday Tutor
URL:https://cameraguildsuncity.com/index.php?option=com_jem&view=event&id=2
 507:the-thursday-tutor
END:VEVENT
BEGIN:VEVENT
UID:event2508@Camera Guild of Sun City
DTSTAMP:20260419T122602Z
CATEGORIES:Education
DESCRIPTION:The Thursday Tutor\nCategory: Education\nLink: https://cameragu
 ildsuncity.com/index.php?option=com_jem&view=event&id=2508:the-thursday-tu
 tor\n
DTSTART;TZID=America/Phoenix:20240509T133000
DTEND;TZID=America/Phoenix:20240509T153000
SUMMARY:The Thursday Tutor
URL:https://cameraguildsuncity.com/index.php?option=com_jem&view=event&id=2
 508:the-thursday-tutor
END:VEVENT
BEGIN:VEVENT
UID:event2509@Camera Guild of Sun City
DTSTAMP:20260419T122602Z
CATEGORIES:Education
DESCRIPTION:The Thursday Tutor\nCategory: Education\nLink: https://cameragu
 ildsuncity.com/index.php?option=com_jem&view=event&id=2509:the-thursday-tu
 tor\n
DTSTART;TZID=America/Phoenix:20240516T133000
DTEND;TZID=America/Phoenix:20240516T153000
SUMMARY:The Thursday Tutor
URL:https://cameraguildsuncity.com/index.php?option=com_jem&view=event&id=2
 509:the-thursday-tutor
END:VEVENT
BEGIN:VEVENT
UID:event2510@Camera Guild of Sun City
DTSTAMP:20260419T122602Z
CATEGORIES:Education
DESCRIPTION:The Thursday Tutor\nCategory: Education\nLink: https://cameragu
 ildsuncity.com/index.php?option=com_jem&view=event&id=2510:the-thursday-tu
 tor\n
DTSTART;TZID=America/Phoenix:20240523T133000
DTEND;TZID=America/Phoenix:20240523T153000
SUMMARY:The Thursday Tutor
URL:https://cameraguildsuncity.com/index.php?option=com_jem&view=event&id=2
 510:the-thursday-tutor
END:VEVENT
BEGIN:VEVENT
UID:event2511@Camera Guild of Sun City
DTSTAMP:20260419T122602Z
CATEGORIES:Education
DESCRIPTION:The Thursday Tutor\nCategory: Education\nLink: https://cameragu
 ildsuncity.com/index.php?option=com_jem&view=event&id=2511:the-thursday-tu
 tor\n
DTSTART;TZID=America/Phoenix:20240530T133000
DTEND;TZID=America/Phoenix:20240530T153000
SUMMARY:The Thursday Tutor
URL:https://cameraguildsuncity.com/index.php?option=com_jem&view=event&id=2
 511:the-thursday-tutor
END:VEVENT
BEGIN:VEVENT
UID:event2512@Camera Guild of Sun City
DTSTAMP:20260419T122602Z
CATEGORIES:Education
DESCRIPTION:The Thursday Tutor\nCategory: Education\nLink: https://cameragu
 ildsuncity.com/index.php?option=com_jem&view=event&id=2512:the-thursday-tu
 tor\n
DTSTART;TZID=America/Phoenix:20240606T133000
DTEND;TZID=America/Phoenix:20240606T153000
SUMMARY:The Thursday Tutor
URL:https://cameraguildsuncity.com/index.php?option=com_jem&view=event&id=2
 512:the-thursday-tutor
END:VEVENT
BEGIN:VEVENT
UID:event2513@Camera Guild of Sun City
DTSTAMP:20260419T122602Z
CATEGORIES:Education
DESCRIPTION:The Thursday Tutor\nCategory: Education\nLink: https://cameragu
 ildsuncity.com/index.php?option=com_jem&view=event&id=2513:the-thursday-tu
 tor\n
DTSTART;TZID=America/Phoenix:20240613T133000
DTEND;TZID=America/Phoenix:20240613T153000
SUMMARY:The Thursday Tutor
URL:https://cameraguildsuncity.com/index.php?option=com_jem&view=event&id=2
 513:the-thursday-tutor
END:VEVENT
BEGIN:VEVENT
UID:event2514@Camera Guild of Sun City
DTSTAMP:20260419T122602Z
CATEGORIES:Education
DESCRIPTION:The Thursday Tutor\nCategory: Education\nLink: https://cameragu
 ildsuncity.com/index.php?option=com_jem&view=event&id=2514:the-thursday-tu
 tor\n
DTSTART;TZID=America/Phoenix:20240620T133000
DTEND;TZID=America/Phoenix:20240620T153000
SUMMARY:The Thursday Tutor
URL:https://cameraguildsuncity.com/index.php?option=com_jem&view=event&id=2
 514:the-thursday-tutor
END:VEVENT
BEGIN:VEVENT
UID:event2515@Camera Guild of Sun City
DTSTAMP:20260419T122602Z
CATEGORIES:Education
DESCRIPTION:The Thursday Tutor\nCategory: Education\nLink: https://cameragu
 ildsuncity.com/index.php?option=com_jem&view=event&id=2515:the-thursday-tu
 tor\n
DTSTART;TZID=America/Phoenix:20240627T133000
DTEND;TZID=America/Phoenix:20240627T153000
SUMMARY:The Thursday Tutor
URL:https://cameraguildsuncity.com/index.php?option=com_jem&view=event&id=2
 515:the-thursday-tutor
END:VEVENT
BEGIN:VEVENT
UID:event2706@Camera Guild of Sun City
DTSTAMP:20260419T122602Z
CATEGORIES:Education
DESCRIPTION:The Thursday Tutor\nCategory: Education\nLink: https://cameragu
 ildsuncity.com/index.php?option=com_jem&view=event&id=2706:the-thursday-tu
 tor\n
DTSTART;TZID=America/Phoenix:20241003T133000
DTEND;TZID=America/Phoenix:20241003T153000
SUMMARY:The Thursday Tutor
URL:https://cameraguildsuncity.com/index.php?option=com_jem&view=event&id=2
 706:the-thursday-tutor
END:VEVENT
BEGIN:VEVENT
UID:event2707@Camera Guild of Sun City
DTSTAMP:20260419T122602Z
CATEGORIES:Education
DESCRIPTION:The Thursday Tutor\nCategory: Education\nLink: https://cameragu
 ildsuncity.com/index.php?option=com_jem&view=event&id=2707:the-thursday-tu
 tor\n
DTSTART;TZID=America/Phoenix:20241010T133000
DTEND;TZID=America/Phoenix:20241010T153000
SUMMARY:The Thursday Tutor
URL:https://cameraguildsuncity.com/index.php?option=com_jem&view=event&id=2
 707:the-thursday-tutor
END:VEVENT
BEGIN:VEVENT
UID:event2708@Camera Guild of Sun City
DTSTAMP:20260419T122602Z
CATEGORIES:Education
DESCRIPTION:The Thursday Tutor\nCategory: Education\nLink: https://cameragu
 ildsuncity.com/index.php?option=com_jem&view=event&id=2708:the-thursday-tu
 tor\n
DTSTART;TZID=America/Phoenix:20241017T133000
DTEND;TZID=America/Phoenix:20241017T153000
SUMMARY:The Thursday Tutor
URL:https://cameraguildsuncity.com/index.php?option=com_jem&view=event&id=2
 708:the-thursday-tutor
END:VEVENT
BEGIN:VEVENT
UID:event2709@Camera Guild of Sun City
DTSTAMP:20260419T122602Z
CATEGORIES:Education
DESCRIPTION:The Thursday Tutor\nCategory: Education\nLink: https://cameragu
 ildsuncity.com/index.php?option=com_jem&view=event&id=2709:the-thursday-tu
 tor\n
DTSTART;TZID=America/Phoenix:20241024T133000
DTEND;TZID=America/Phoenix:20241024T153000
SUMMARY:The Thursday Tutor
URL:https://cameraguildsuncity.com/index.php?option=com_jem&view=event&id=2
 709:the-thursday-tutor
END:VEVENT
BEGIN:VEVENT
UID:event2787@Camera Guild of Sun City
DTSTAMP:20260419T122602Z
CATEGORIES:Education
DESCRIPTION:The Thursday Tutor\nCategory: Education\nLink: https://cameragu
 ildsuncity.com/index.php?option=com_jem&view=event&id=2787:the-thursday-tu
 tor\n
DTSTART;TZID=America/Phoenix:20241107T133000
DTEND;TZID=America/Phoenix:20241107T153000
SUMMARY:The Thursday Tutor
URL:https://cameraguildsuncity.com/index.php?option=com_jem&view=event&id=2
 787:the-thursday-tutor
END:VEVENT
BEGIN:VEVENT
UID:event2788@Camera Guild of Sun City
DTSTAMP:20260419T122602Z
CATEGORIES:Education
DESCRIPTION:The Thursday Tutor\nCategory: Education\nLink: https://cameragu
 ildsuncity.com/index.php?option=com_jem&view=event&id=2788:the-thursday-tu
 tor\n
DTSTART;TZID=America/Phoenix:20241114T133000
DTEND;TZID=America/Phoenix:20241114T153000
SUMMARY:The Thursday Tutor
URL:https://cameraguildsuncity.com/index.php?option=com_jem&view=event&id=2
 788:the-thursday-tutor
END:VEVENT
BEGIN:VEVENT
UID:event2790@Camera Guild of Sun City
DTSTAMP:20260419T122602Z
CATEGORIES:Education
DESCRIPTION:The Thursday Tutor\nCategory: Education\nLink: https://cameragu
 ildsuncity.com/index.php?option=com_jem&view=event&id=2790:the-thursday-tu
 tor\n
DTSTART;TZID=America/Phoenix:20241121T133000
DTEND;TZID=America/Phoenix:20241121T153000
SUMMARY:The Thursday Tutor
URL:https://cameraguildsuncity.com/index.php?option=com_jem&view=event&id=2
 790:the-thursday-tutor
END:VEVENT
BEGIN:VEVENT
UID:event2516@Camera Guild of Sun City
DTSTAMP:20260419T122602Z
CATEGORIES:Education
DESCRIPTION:The Thursday Tutor\nCategory: Education\nLink: https://cameragu
 ildsuncity.com/index.php?option=com_jem&view=event&id=2516:the-thursday-tu
 tor\n
DTSTART;TZID=America/Phoenix:20240704T133000
DTEND;TZID=America/Phoenix:20240704T153000
SUMMARY:The Thursday Tutor
URL:https://cameraguildsuncity.com/index.php?option=com_jem&view=event&id=2
 516:the-thursday-tutor
END:VEVENT
BEGIN:VEVENT
UID:event2517@Camera Guild of Sun City
DTSTAMP:20260419T122602Z
CATEGORIES:Education
DESCRIPTION:The Thursday Tutor\nCategory: Education\nLink: https://cameragu
 ildsuncity.com/index.php?option=com_jem&view=event&id=2517:the-thursday-tu
 tor\n
DTSTART;TZID=America/Phoenix:20240711T133000
DTEND;TZID=America/Phoenix:20240711T153000
SUMMARY:The Thursday Tutor
URL:https://cameraguildsuncity.com/index.php?option=com_jem&view=event&id=2
 517:the-thursday-tutor
END:VEVENT
BEGIN:VEVENT
UID:event2518@Camera Guild of Sun City
DTSTAMP:20260419T122602Z
CATEGORIES:Education
DESCRIPTION:The Thursday Tutor\nCategory: Education\nLink: https://cameragu
 ildsuncity.com/index.php?option=com_jem&view=event&id=2518:the-thursday-tu
 tor\n
DTSTART;TZID=America/Phoenix:20240718T133000
DTEND;TZID=America/Phoenix:20240718T153000
SUMMARY:The Thursday Tutor
URL:https://cameraguildsuncity.com/index.php?option=com_jem&view=event&id=2
 518:the-thursday-tutor
END:VEVENT
BEGIN:VEVENT
UID:event2519@Camera Guild of Sun City
DTSTAMP:20260419T122602Z
CATEGORIES:Education
DESCRIPTION:The Thursday Tutor\nCategory: Education\nLink: https://cameragu
 ildsuncity.com/index.php?option=com_jem&view=event&id=2519:the-thursday-tu
 tor\n
DTSTART;TZID=America/Phoenix:20240725T133000
DTEND;TZID=America/Phoenix:20240725T153000
SUMMARY:The Thursday Tutor
URL:https://cameraguildsuncity.com/index.php?option=com_jem&view=event&id=2
 519:the-thursday-tutor
END:VEVENT
BEGIN:VEVENT
UID:event2520@Camera Guild of Sun City
DTSTAMP:20260419T122602Z
CATEGORIES:Education
DESCRIPTION:The Thursday Tutor\nCategory: Education\nLink: https://cameragu
 ildsuncity.com/index.php?option=com_jem&view=event&id=2520:the-thursday-tu
 tor\n
DTSTART;TZID=America/Phoenix:20240801T133000
DTEND;TZID=America/Phoenix:20240801T153000
SUMMARY:The Thursday Tutor
URL:https://cameraguildsuncity.com/index.php?option=com_jem&view=event&id=2
 520:the-thursday-tutor
END:VEVENT
BEGIN:VEVENT
UID:event2521@Camera Guild of Sun City
DTSTAMP:20260419T122602Z
CATEGORIES:Education
DESCRIPTION:The Thursday Tutor\nCategory: Education\nLink: https://cameragu
 ildsuncity.com/index.php?option=com_jem&view=event&id=2521:the-thursday-tu
 tor\n
DTSTART;TZID=America/Phoenix:20240808T133000
DTEND;TZID=America/Phoenix:20240808T153000
SUMMARY:The Thursday Tutor
URL:https://cameraguildsuncity.com/index.php?option=com_jem&view=event&id=2
 521:the-thursday-tutor
END:VEVENT
BEGIN:VEVENT
UID:event2601@Camera Guild of Sun City
DTSTAMP:20260419T122602Z
CATEGORIES:Education
DESCRIPTION:The Thursday Tutor\nCategory: Education\nLink: https://cameragu
 ildsuncity.com/index.php?option=com_jem&view=event&id=2601:the-thursday-tu
 tor\n
DTSTART;TZID=America/Phoenix:20240815T133000
DTEND;TZID=America/Phoenix:20240815T153000
SUMMARY:The Thursday Tutor
URL:https://cameraguildsuncity.com/index.php?option=com_jem&view=event&id=2
 601:the-thursday-tutor
END:VEVENT
BEGIN:VEVENT
UID:event2606@Camera Guild of Sun City
DTSTAMP:20260419T122602Z
CATEGORIES:Education
DESCRIPTION:The Thursday Tutor\nCategory: Education\nLink: https://cameragu
 ildsuncity.com/index.php?option=com_jem&view=event&id=2606:the-thursday-tu
 tor\n
DTSTART;TZID=America/Phoenix:20240822T133000
DTEND;TZID=America/Phoenix:20240822T153000
SUMMARY:The Thursday Tutor
URL:https://cameraguildsuncity.com/index.php?option=com_jem&view=event&id=2
 606:the-thursday-tutor
END:VEVENT
BEGIN:VEVENT
UID:event2608@Camera Guild of Sun City
DTSTAMP:20260419T122602Z
CATEGORIES:Education
DESCRIPTION:The Thursday Tutor\nCategory: Education\nLink: https://cameragu
 ildsuncity.com/index.php?option=com_jem&view=event&id=2608:the-thursday-tu
 tor\n
DTSTART;TZID=America/Phoenix:20240829T133000
DTEND;TZID=America/Phoenix:20240829T153000
SUMMARY:The Thursday Tutor
URL:https://cameraguildsuncity.com/index.php?option=com_jem&view=event&id=2
 608:the-thursday-tutor
END:VEVENT
BEGIN:VEVENT
UID:event2610@Camera Guild of Sun City
DTSTAMP:20260419T122602Z
CATEGORIES:Education
DESCRIPTION:The Thursday Tutor\nCategory: Education\nLink: https://cameragu
 ildsuncity.com/index.php?option=com_jem&view=event&id=2610:the-thursday-tu
 tor\n
DTSTART;TZID=America/Phoenix:20240905T133000
DTEND;TZID=America/Phoenix:20240905T153000
SUMMARY:The Thursday Tutor
URL:https://cameraguildsuncity.com/index.php?option=com_jem&view=event&id=2
 610:the-thursday-tutor
END:VEVENT
BEGIN:VEVENT
UID:event2612@Camera Guild of Sun City
DTSTAMP:20260419T122602Z
CATEGORIES:Education
DESCRIPTION:The Thursday Tutor\nCategory: Education\nLink: https://cameragu
 ildsuncity.com/index.php?option=com_jem&view=event&id=2612:the-thursday-tu
 tor\n
DTSTART;TZID=America/Phoenix:20240912T133000
DTEND;TZID=America/Phoenix:20240912T153000
SUMMARY:The Thursday Tutor
URL:https://cameraguildsuncity.com/index.php?option=com_jem&view=event&id=2
 612:the-thursday-tutor
END:VEVENT
BEGIN:VEVENT
UID:event2615@Camera Guild of Sun City
DTSTAMP:20260419T122602Z
CATEGORIES:Education
DESCRIPTION:The Thursday Tutor\nCategory: Education\nLink: https://cameragu
 ildsuncity.com/index.php?option=com_jem&view=event&id=2615:the-thursday-tu
 tor\n
DTSTART;TZID=America/Phoenix:20240919T133000
DTEND;TZID=America/Phoenix:20240919T153000
SUMMARY:The Thursday Tutor
URL:https://cameraguildsuncity.com/index.php?option=com_jem&view=event&id=2
 615:the-thursday-tutor
END:VEVENT
BEGIN:VEVENT
UID:event2617@Camera Guild of Sun City
DTSTAMP:20260419T122602Z
CATEGORIES:Education
DESCRIPTION:The Thursday Tutor\nCategory: Education\nLink: https://cameragu
 ildsuncity.com/index.php?option=com_jem&view=event&id=2617:the-thursday-tu
 tor\n
DTSTART;TZID=America/Phoenix:20240926T133000
DTEND;TZID=America/Phoenix:20240926T153000
SUMMARY:The Thursday Tutor
URL:https://cameraguildsuncity.com/index.php?option=com_jem&view=event&id=2
 617:the-thursday-tutor
END:VEVENT
BEGIN:VEVENT
UID:event3685@Camera Guild of Sun City
DTSTAMP:20260419T122602Z
CATEGORIES:Education
DESCRIPTION:Basic Processing Workflow With Photoshop\nCategory: Education\n
 Link: https://cameraguildsuncity.com/index.php?option=com_jem&view=event&i
 d=3685:camera-basics\n
DTSTART;TZID=America/Phoenix:20251021T140000
DTEND;TZID=America/Phoenix:20251021T160000
SUMMARY:Basic Processing Workflow With Photoshop
URL:https://cameraguildsuncity.com/index.php?option=com_jem&view=event&id=3
 685:camera-basics
END:VEVENT
BEGIN:VEVENT
UID:event3683@Camera Guild of Sun City
DTSTAMP:20260419T122602Z
CATEGORIES:Education
DESCRIPTION:Camera Basics\nCategory: Education\nLink: https://cameraguildsu
 ncity.com/index.php?option=com_jem&view=event&id=3683:camera-basics\n
DTSTART;TZID=America/Phoenix:20251014T140000
DTEND;TZID=America/Phoenix:20251014T160000
SUMMARY:Camera Basics
URL:https://cameraguildsuncity.com/index.php?option=com_jem&view=event&id=3
 683:camera-basics
END:VEVENT
BEGIN:VEVENT
UID:event3684@Camera Guild of Sun City
DTSTAMP:20260419T122602Z
CATEGORIES:Education
DESCRIPTION:Camera Basics / Homework Review\nCategory: Education\nLink: htt
 ps://cameraguildsuncity.com/index.php?option=com_jem&view=event&id=3684:ca
 mera-basics-homework-review\n
DTSTART;TZID=America/Phoenix:20251028T140000
DTEND;TZID=America/Phoenix:20251028T160000
SUMMARY:Camera Basics / Homework Review
URL:https://cameraguildsuncity.com/index.php?option=com_jem&view=event&id=3
 684:camera-basics-homework-review
END:VEVENT
END:VCALENDAR